BEGIN:VCALENDAR
VERSION:2.0
PRODID:-//Colorado Legal Services - ECPv6.15.20//NONSGML v1.0//EN
CALSCALE:GREGORIAN
METHOD:PUBLISH
X-WR-CALNAME:Colorado Legal Services
X-ORIGINAL-URL:https://www.coloradolegalservices.org/es
X-WR-CALDESC:Eventos para Colorado Legal Services
REFRESH-INTERVAL;VALUE=DURATION:PT1H
X-Robots-Tag:noindex
X-PUBLISHED-TTL:PT1H
BEGIN:VTIMEZONE
TZID:America/Denver
BEGIN:DAYLIGHT
TZOFFSETFROM:-0700
TZOFFSETTO:-0600
TZNAME:MDT
DTSTART:20250309T090000
END:DAYLIGHT
BEGIN:STANDARD
TZOFFSETFROM:-0600
TZOFFSETTO:-0700
TZNAME:MST
DTSTART:20251102T080000
END:STANDARD
BEGIN:DAYLIGHT
TZOFFSETFROM:-0700
TZOFFSETTO:-0600
TZNAME:MDT
DTSTART:20260308T090000
END:DAYLIGHT
BEGIN:STANDARD
TZOFFSETFROM:-0600
TZOFFSETTO:-0700
TZNAME:MST
DTSTART:20261101T080000
END:STANDARD
BEGIN:DAYLIGHT
TZOFFSETFROM:-0700
TZOFFSETTO:-0600
TZNAME:MDT
DTSTART:20270314T090000
END:DAYLIGHT
BEGIN:STANDARD
TZOFFSETFROM:-0600
TZOFFSETTO:-0700
TZNAME:MST
DTSTART:20271107T080000
END:STANDARD
END:VTIMEZONE
BEGIN:VEVENT
DTSTART;TZID=America/Denver:20260701T170000
DTEND;TZID=America/Denver:20260701T183000
DTSTAMP:20260420T111530
CREATED:20260320T181656Z
LAST-MODIFIED:20260320T181732Z
UID:10000076-1782925200-1782930600@www.coloradolegalservices.org
SUMMARY:Divorce & and Custody Workshop at Colorado Spring
DESCRIPTION:Join us for an informational workshop on Divorce & Custody\, designed to help community members understand their rights and options in family law matters. \nDuring this session\, participants will learn about the divorce process\, custody arrangements\, parental responsibilities\, and important legal considerations when navigating family court. The workshop will also provide general guidance on how to approach these situations and access available resources. \nThis workshop is open to the public and intended to provide general legal information. \n📌 Location: Fountain230 S. Main St.Fountain\, CO \n🕒 Time: 5PM – 6:30 PM
URL:https://www.coloradolegalservices.org/es/event/divorce-custody-workshop-at-colorado-spring/
LOCATION:230 S. Main St. Fountain\, CO\, 230 S. Main St. Fountain\, CO\, Colorado Springs\, CO\, United States
END:VEVENT
BEGIN:VEVENT
DTSTART;TZID=America/Denver:20260703T090000
DTEND;TZID=America/Denver:20260703T110000
DTSTAMP:20260420T111530
CREATED:20260415T232728Z
LAST-MODIFIED:20260415T232728Z
UID:10000214-1783069200-1783076400@www.coloradolegalservices.org
SUMMARY:Fairplay Legal Intake Clinic (Walk-In)
DESCRIPTION:Colorado Legal Services will have a staff member available to conduct case intake interviews from April through June 2026\, according to the following schedule. Individuals can meet with staff to discuss their legal concerns and determine eligibility for services. \nFAIRPLAY: 1st Friday Monthly*🕘 9:00 a.m. to 11:00 a.m.📍 Park County Combined Courts300 4th Street \nClients will be seen on a walk-in\, first-come\, first-served basis. \nPlease contact our office for Chaffee\, Custer\, and Park counties by calling (719) 539-4250.
URL:https://www.coloradolegalservices.org/es/event/fairplay-legal-intake-clinic-walk-in/2026-07-03/
LOCATION:Park County Combined Courts 300 4th Street\, Park County Combined Courts 300 4th Street
END:VEVENT
BEGIN:VEVENT
DTSTART;TZID=America/Denver:20260706T183000
DTEND;TZID=America/Denver:20260706T193000
DTSTAMP:20260420T111530
CREATED:20260416T165355Z
LAST-MODIFIED:20260416T165355Z
UID:10000241-1783362600-1783366200@www.coloradolegalservices.org
SUMMARY:Legal Tenant Workshop - Denver
DESCRIPTION:Legal Tenant and Consumer Workshop (In-Person)Organized with the support of the Almost Online \nColorado Legal Services invites you to attend this workshop designed to help you understand your rights as a tenant and consumer. During this session\, you will learn key information about legal protections\, how to handle housing-related issues\, and resources available in your community. \nThis event is open to the public and offers both in-person and virtual attendance options\, making it accessible for everyone. \n🗓 Date: July 6\, 2026🕔 Time: 6:30PM to 730pm📍 Location: 22 S 4th Ave at Almost Home (in the basement of the old City Hall)💻 Format: In-person
URL:https://www.coloradolegalservices.org/es/event/legal-tenant-workshop-denver/
LOCATION:22 S 4th Ave at Almost Home\, 22 S 4th Ave at Almost Home
END:VEVENT
BEGIN:VEVENT
DTSTART;TZID=America/Denver:20260710T090000
DTEND;TZID=America/Denver:20260710T110000
DTSTAMP:20260420T111530
CREATED:20260415T233520Z
LAST-MODIFIED:20260415T233520Z
UID:10000228-1783674000-1783681200@www.coloradolegalservices.org
SUMMARY:Salida - Free Legal Intake Clinics Fairplay
DESCRIPTION:Colorado Legal Services will have a staff member available for case intake interviews from April through June 2026. This is an opportunity for individuals to speak directly with staff about their legal concerns and determine eligibility for services. \nSALIDA: Every Friday (except the first Friday of the month)*🕘 9:00 a.m. to 11:00 a.m.📍 Chaffee County Courthouse142 Crestone Avenue \nNo outreach on June 19\, 2026 \nClients will be seen on a walk-in\, first-come\, first-served basis. \nFor more information or questions\, please contact our office serving Chaffee\, Custer\, and Park counties at (719) 539-4250.
URL:https://www.coloradolegalservices.org/es/event/salida-free-legal-intake-clinics-fairplay/2026-07-10/
LOCATION:📍 Chaffee County Courthouse 142 Crestone Avenue\, 📍 Chaffee County Courthouse 142 Crestone Avenue
END:VEVENT
BEGIN:VEVENT
DTSTART;TZID=America/Denver:20260710T100000
DTEND;TZID=America/Denver:20260710T140000
DTSTAMP:20260420T111530
CREATED:20260319T154925Z
LAST-MODIFIED:20260330T175832Z
UID:10000085-1783677600-1783692000@www.coloradolegalservices.org
SUMMARY:Fremont Courthouse: Meet an attorney
DESCRIPTION:Meet with an attorney for information on civil legal matters such as an eviction\, foreclosure\, debt collection\, protection orders\, divorce and custody\, public benefits appeals\, and help obtaining an ID/Birth Certificate. \nSchedule an appointment: (719) 471-0380
URL:https://www.coloradolegalservices.org/es/event/fremont-courthouse-outreach-meet-with-attoney-at-fermont-county/2026-07-10/
LOCATION:136 Justice Center Rd #103\, Cañon City\, CO 81212\, 136 Justice Center Rd #103\, Cañon City\, Fermont\, CO\, 81212\, United States
END:VEVENT
BEGIN:VEVENT
DTSTART;TZID=America/Denver:20260715T090000
DTEND;TZID=America/Denver:20260715T150000
DTSTAMP:20260420T111530
CREATED:20260320T173833Z
LAST-MODIFIED:20260320T173833Z
UID:10000066-1784106000-1784127600@www.coloradolegalservices.org
SUMMARY:Intakes for family law issues: self-help center at the Denver District Courthouse
DESCRIPTION:📍 Event Description\nOn the third Wednesday of every month\, a Colorado Legal Services (CLS) paralegal will be available at the Self-Help Center located at the Denver District Courthouse (Denver City & County Building\, Room 281). \nDuring this event\, CLS will provide on-site intake services for family law matters. Please note that this is an intake-only event\, and no educational presentations will be conducted. \nThis initiative aims to connect with individuals who are already visiting the courthouse—especially those who may not be familiar with CLS or who face barriers in accessing legal services. \nThe Self-Help Center is specifically focused on family law issues\, making it an ideal location to support community members in need of legal assistance. \n📌  Time: 9am-3pm (closed 12-1)\n📌 Location\nDenver City & County Building1437 Bannock Street\, Room 281Denver\, CO 80202 \nApril 15\, 2026\nMay 20\, 2026\nJune 17\, 2026\nJuly 15\, 2026\nAugust 19\, 2026\nSeptember 16\, 2026\nOctober 21\, 2026\nNovember 18\, 2026\nDecember 16\, 2026
URL:https://www.coloradolegalservices.org/es/event/intakes-for-family-law-issues-self-help-center-at-the-denver-district-courthouse-4/
LOCATION:Denver City & County Building 1437 Bannock Street\, Room 281 Denver\, CO 80202\, Denver City & County Building 1437 Bannock Street\, Room 281\, Denver\, CO\, 80202\, United States
END:VEVENT
BEGIN:VEVENT
DTSTART;TZID=America/Denver:20260724T100000
DTEND;TZID=America/Denver:20260724T140000
DTSTAMP:20260420T111530
CREATED:20260319T154925Z
LAST-MODIFIED:20260330T175832Z
UID:10000086-1784887200-1784901600@www.coloradolegalservices.org
SUMMARY:Fremont Courthouse: Meet an attorney
DESCRIPTION:Meet with an attorney for information on civil legal matters such as an eviction\, foreclosure\, debt collection\, protection orders\, divorce and custody\, public benefits appeals\, and help obtaining an ID/Birth Certificate. \nSchedule an appointment: (719) 471-0380
URL:https://www.coloradolegalservices.org/es/event/fremont-courthouse-outreach-meet-with-attoney-at-fermont-county/2026-07-24/
LOCATION:136 Justice Center Rd #103\, Cañon City\, CO 81212\, 136 Justice Center Rd #103\, Cañon City\, Fermont\, CO\, 81212\, United States
END:VEVENT
END:VCALENDAR