BEGIN:VCALENDAR
VERSION:2.0
PRODID:-//Colorado Legal Services - ECPv6.15.20//NONSGML v1.0//EN
CALSCALE:GREGORIAN
METHOD:PUBLISH
X-WR-CALNAME:Colorado Legal Services
X-ORIGINAL-URL:https://www.coloradolegalservices.org/es
X-WR-CALDESC:Eventos para Colorado Legal Services
REFRESH-INTERVAL;VALUE=DURATION:PT1H
X-Robots-Tag:noindex
X-PUBLISHED-TTL:PT1H
BEGIN:VTIMEZONE
TZID:America/Denver
BEGIN:DAYLIGHT
TZOFFSETFROM:-0700
TZOFFSETTO:-0600
TZNAME:MDT
DTSTART:20250309T090000
END:DAYLIGHT
BEGIN:STANDARD
TZOFFSETFROM:-0600
TZOFFSETTO:-0700
TZNAME:MST
DTSTART:20251102T080000
END:STANDARD
BEGIN:DAYLIGHT
TZOFFSETFROM:-0700
TZOFFSETTO:-0600
TZNAME:MDT
DTSTART:20260308T090000
END:DAYLIGHT
BEGIN:STANDARD
TZOFFSETFROM:-0600
TZOFFSETTO:-0700
TZNAME:MST
DTSTART:20261101T080000
END:STANDARD
BEGIN:DAYLIGHT
TZOFFSETFROM:-0700
TZOFFSETTO:-0600
TZNAME:MDT
DTSTART:20270314T090000
END:DAYLIGHT
BEGIN:STANDARD
TZOFFSETFROM:-0600
TZOFFSETTO:-0700
TZNAME:MST
DTSTART:20271107T080000
END:STANDARD
END:VTIMEZONE
BEGIN:VEVENT
DTSTART;TZID=America/Denver:20260902T170000
DTEND;TZID=America/Denver:20260902T183000
DTSTAMP:20260425T220548
CREATED:20260320T180436Z
LAST-MODIFIED:20260320T181232Z
UID:10000074-1788368400-1788373800@www.coloradolegalservices.org
SUMMARY:Protection Orders Workshop at Colorado Spring
DESCRIPTION:Join us for an informational workshop on Protection Orders\, designed to help community members understand their rights and options for safety and legal protection. \nDuring this session\, participants will learn what protection orders are\, who may qualify\, the different types available\, and the steps involved in requesting one. The workshop will also provide general guidance on how protection orders can help individuals and families stay safe. \nThis workshop is open to the public and intended to provide general legal information. \n📌 Location: Pikes Peak Library District –Old Colorado City \n2418 W. Pikes Peak AveColorado Springs\, CO \n🕒 Time: 5 PM – 6:30 PM
URL:https://www.coloradolegalservices.org/es/event/protection-orders-workshop-at-colorado-spring/
LOCATION:2418 W. Pikes Peak Ave Colorado Springs\, CO\, 2418 W. Pikes Peak Ave\, Colorado Springs\, United States
END:VEVENT
BEGIN:VEVENT
DTSTART;TZID=America/Denver:20260904T090000
DTEND;TZID=America/Denver:20260904T110000
DTSTAMP:20260425T220548
CREATED:20260415T232728Z
LAST-MODIFIED:20260415T232728Z
UID:10000216-1788512400-1788519600@www.coloradolegalservices.org
SUMMARY:Fairplay Legal Intake Clinic (Walk-In)
DESCRIPTION:Colorado Legal Services will have a staff member available to conduct case intake interviews from April through June 2026\, according to the following schedule. Individuals can meet with staff to discuss their legal concerns and determine eligibility for services. \nFAIRPLAY: 1st Friday Monthly*🕘 9:00 a.m. to 11:00 a.m.📍 Park County Combined Courts300 4th Street \nClients will be seen on a walk-in\, first-come\, first-served basis. \nPlease contact our office for Chaffee\, Custer\, and Park counties by calling (719) 539-4250.
URL:https://www.coloradolegalservices.org/es/event/fairplay-legal-intake-clinic-walk-in/2026-09-04/
LOCATION:Park County Combined Courts 300 4th Street\, Park County Combined Courts 300 4th Street
END:VEVENT
BEGIN:VEVENT
DTSTART;TZID=America/Denver:20260904T100000
DTEND;TZID=America/Denver:20260904T140000
DTSTAMP:20260425T220548
CREATED:20260319T154925Z
LAST-MODIFIED:20260330T175832Z
UID:10000089-1788516000-1788530400@www.coloradolegalservices.org
SUMMARY:Fremont Courthouse: Meet an attorney
DESCRIPTION:Meet with an attorney for information on civil legal matters such as an eviction\, foreclosure\, debt collection\, protection orders\, divorce and custody\, public benefits appeals\, and help obtaining an ID/Birth Certificate. \nSchedule an appointment: (719) 471-0380
URL:https://www.coloradolegalservices.org/es/event/fremont-courthouse-outreach-meet-with-attoney-at-fermont-county/2026-09-04/
LOCATION:136 Justice Center Rd #103\, Cañon City\, CO 81212\, 136 Justice Center Rd #103\, Cañon City\, Fermont\, CO\, 81212\, United States
END:VEVENT
BEGIN:VEVENT
DTSTART;TZID=America/Denver:20260910T160000
DTEND;TZID=America/Denver:20260910T170000
DTSTAMP:20260425T220548
CREATED:20260319T160620Z
LAST-MODIFIED:20260319T160620Z
UID:10000059-1789056000-1789059600@www.coloradolegalservices.org
SUMMARY:KNOW YOUR HOUSING RIGHTS for Tenants  at Woodland Park
DESCRIPTION:A free presentation to help answer some of the most common questions we get from tenants\nplus time for Q&A \nTHURSDAY\, SEPTEMBER 10\nTH\, 4:00 – 5:00 P.M.\nCommunity Partnership Family Resource Cente \nQuestions? Contact Community Partnership Family Resource Center
URL:https://www.coloradolegalservices.org/es/event/know-your-housing-rights-for-tenants-at-woodland-park/
LOCATION:701 Gold Hill Pl S\, Woodland Park\, CO 80863\, 701 Gold Hill Pl S\, Woodland Park\, CO 80863\, Woodland Park\,\, 80863\, United States
END:VEVENT
BEGIN:VEVENT
DTSTART;TZID=America/Denver:20260916T090000
DTEND;TZID=America/Denver:20260916T150000
DTSTAMP:20260425T220548
CREATED:20260320T174052Z
LAST-MODIFIED:20260320T174052Z
UID:10000068-1789549200-1789570800@www.coloradolegalservices.org
SUMMARY:Intakes for family law issues: self-help center at the Denver District Courthouse
DESCRIPTION:📍 Event Description\nOn the third Wednesday of every month\, a Colorado Legal Services (CLS) paralegal will be available at the Self-Help Center located at the Denver District Courthouse (Denver City & County Building\, Room 281). \nDuring this event\, CLS will provide on-site intake services for family law matters. Please note that this is an intake-only event\, and no educational presentations will be conducted. \nThis initiative aims to connect with individuals who are already visiting the courthouse—especially those who may not be familiar with CLS or who face barriers in accessing legal services. \nThe Self-Help Center is specifically focused on family law issues\, making it an ideal location to support community members in need of legal assistance. \n📌  Time: 9am-3pm (closed 12-1)\n📌 Location\nDenver City & County Building1437 Bannock Street\, Room 281Denver\, CO 80202 \nApril 15\, 2026\nMay 20\, 2026\nJune 17\, 2026\nJuly 15\, 2026\nAugust 19\, 2026\nSeptember 16\, 2026\nOctober 21\, 2026\nNovember 18\, 2026\nDecember 16\, 2026
URL:https://www.coloradolegalservices.org/es/event/intakes-for-family-law-issues-self-help-center-at-the-denver-district-courthouse-6/
LOCATION:Denver City & County Building 1437 Bannock Street\, Room 281 Denver\, CO 80202\, Denver City & County Building 1437 Bannock Street\, Room 281\, Denver\, CO\, 80202\, United States
END:VEVENT
BEGIN:VEVENT
DTSTART;TZID=America/Denver:20260918T100000
DTEND;TZID=America/Denver:20260918T140000
DTSTAMP:20260425T220548
CREATED:20260319T154925Z
LAST-MODIFIED:20260330T175832Z
UID:10000090-1789725600-1789740000@www.coloradolegalservices.org
SUMMARY:Fremont Courthouse: Meet an attorney
DESCRIPTION:Meet with an attorney for information on civil legal matters such as an eviction\, foreclosure\, debt collection\, protection orders\, divorce and custody\, public benefits appeals\, and help obtaining an ID/Birth Certificate. \nSchedule an appointment: (719) 471-0380
URL:https://www.coloradolegalservices.org/es/event/fremont-courthouse-outreach-meet-with-attoney-at-fermont-county/2026-09-18/
LOCATION:136 Justice Center Rd #103\, Cañon City\, CO 81212\, 136 Justice Center Rd #103\, Cañon City\, Fermont\, CO\, 81212\, United States
END:VEVENT
END:VCALENDAR