BEGIN:VCALENDAR
VERSION:2.0
PRODID:-//Colorado Legal Services - ECPv6.15.20//NONSGML v1.0//EN
CALSCALE:GREGORIAN
METHOD:PUBLISH
X-ORIGINAL-URL:https://www.coloradolegalservices.org
X-WR-CALDESC:Events for Colorado Legal Services
REFRESH-INTERVAL;VALUE=DURATION:PT1H
X-Robots-Tag:noindex
X-PUBLISHED-TTL:PT1H
BEGIN:VTIMEZONE
TZID:America/Denver
BEGIN:DAYLIGHT
TZOFFSETFROM:-0700
TZOFFSETTO:-0600
TZNAME:MDT
DTSTART:20250309T090000
END:DAYLIGHT
BEGIN:STANDARD
TZOFFSETFROM:-0600
TZOFFSETTO:-0700
TZNAME:MST
DTSTART:20251102T080000
END:STANDARD
BEGIN:DAYLIGHT
TZOFFSETFROM:-0700
TZOFFSETTO:-0600
TZNAME:MDT
DTSTART:20260308T090000
END:DAYLIGHT
BEGIN:STANDARD
TZOFFSETFROM:-0600
TZOFFSETTO:-0700
TZNAME:MST
DTSTART:20261101T080000
END:STANDARD
BEGIN:DAYLIGHT
TZOFFSETFROM:-0700
TZOFFSETTO:-0600
TZNAME:MDT
DTSTART:20270314T090000
END:DAYLIGHT
BEGIN:STANDARD
TZOFFSETFROM:-0600
TZOFFSETTO:-0700
TZNAME:MST
DTSTART:20271107T080000
END:STANDARD
END:VTIMEZONE
BEGIN:VEVENT
DTSTART;TZID=America/Denver:20260904T090000
DTEND;TZID=America/Denver:20260904T110000
DTSTAMP:20260425T125551
CREATED:20260415T232728Z
LAST-MODIFIED:20260415T232728Z
UID:10000216-1788512400-1788519600@www.coloradolegalservices.org
SUMMARY:Fairplay Legal Intake Clinic (Walk-In)
DESCRIPTION:Colorado Legal Services will have a staff member available to conduct case intake interviews from April through June 2026\, according to the following schedule. Individuals can meet with staff to discuss their legal concerns and determine eligibility for services. \nFAIRPLAY: 1st Friday Monthly*🕘 9:00 a.m. to 11:00 a.m.📍 Park County Combined Courts300 4th Street \nClients will be seen on a walk-in\, first-come\, first-served basis. \nPlease contact our office for Chaffee\, Custer\, and Park counties by calling (719) 539-4250.
URL:https://www.coloradolegalservices.org/event/fairplay-legal-intake-clinic-walk-in/2026-09-04/
LOCATION:Park County Combined Courts 300 4th Street\, Park County Combined Courts 300 4th Street
END:VEVENT
BEGIN:VEVENT
DTSTART;TZID=America/Denver:20260904T100000
DTEND;TZID=America/Denver:20260904T140000
DTSTAMP:20260425T125551
CREATED:20260319T154925Z
LAST-MODIFIED:20260330T175832Z
UID:10000089-1788516000-1788530400@www.coloradolegalservices.org
SUMMARY:Fremont Courthouse: Meet an attorney
DESCRIPTION:Meet with an attorney for information on civil legal matters such as an eviction\, foreclosure\, debt collection\, protection orders\, divorce and custody\, public benefits appeals\, and help obtaining an ID/Birth Certificate. \nSchedule an appointment: (719) 471-0380
URL:https://www.coloradolegalservices.org/event/fremont-courthouse-outreach-meet-with-attoney-at-fermont-county/2026-09-04/
LOCATION:136 Justice Center Rd #103\, Cañon City\, CO 81212\, 136 Justice Center Rd #103\, Cañon City\, Fermont\, CO\, 81212\, United States
END:VEVENT
END:VCALENDAR