BEGIN:VCALENDAR
VERSION:2.0
PRODID:-//Colorado Legal Services - ECPv6.15.20//NONSGML v1.0//EN
CALSCALE:GREGORIAN
METHOD:PUBLISH
X-ORIGINAL-URL:https://www.coloradolegalservices.org
X-WR-CALDESC:Events for Colorado Legal Services
REFRESH-INTERVAL;VALUE=DURATION:PT1H
X-Robots-Tag:noindex
X-PUBLISHED-TTL:PT1H
BEGIN:VTIMEZONE
TZID:America/Denver
BEGIN:DAYLIGHT
TZOFFSETFROM:-0700
TZOFFSETTO:-0600
TZNAME:MDT
DTSTART:20250309T090000
END:DAYLIGHT
BEGIN:STANDARD
TZOFFSETFROM:-0600
TZOFFSETTO:-0700
TZNAME:MST
DTSTART:20251102T080000
END:STANDARD
BEGIN:DAYLIGHT
TZOFFSETFROM:-0700
TZOFFSETTO:-0600
TZNAME:MDT
DTSTART:20260308T090000
END:DAYLIGHT
BEGIN:STANDARD
TZOFFSETFROM:-0600
TZOFFSETTO:-0700
TZNAME:MST
DTSTART:20261101T080000
END:STANDARD
BEGIN:DAYLIGHT
TZOFFSETFROM:-0700
TZOFFSETTO:-0600
TZNAME:MDT
DTSTART:20270314T090000
END:DAYLIGHT
BEGIN:STANDARD
TZOFFSETFROM:-0600
TZOFFSETTO:-0700
TZNAME:MST
DTSTART:20271107T080000
END:STANDARD
END:VTIMEZONE
BEGIN:VEVENT
DTSTART;TZID=America/Denver:20261029T090000
DTEND;TZID=America/Denver:20261029T130000
DTSTAMP:20260425T201323
CREATED:20260319T162852Z
LAST-MODIFIED:20260319T173014Z
UID:10000062-1793264400-1793278800@www.coloradolegalservices.org
SUMMARY:2026 Veterans Stand Down & Resource Fair at Longmont
DESCRIPTION:2026 Veterans Stand Down & Resource Fair\nDate: 10/29/2026\nTime: 9:00 A.M. – 1:00 P.M.\nLocation: 315 South Bowen Street\, Longmont\, 80501
URL:https://www.coloradolegalservices.org/event/2026-veterans-stand-down-resource-fair-at-longmont/
LOCATION:315 South Bowen Street\, Longmont\,  80501\, 315 South Bowen Street\, Longmont\, 80501\, Longmont\, CO\, 80501\, United States
END:VEVENT
END:VCALENDAR