BEGIN:VCALENDAR
VERSION:2.0
PRODID:-//Colorado Legal Services - ECPv6.15.20//NONSGML v1.0//EN
CALSCALE:GREGORIAN
METHOD:PUBLISH
X-WR-CALNAME:Colorado Legal Services
X-ORIGINAL-URL:https://www.coloradolegalservices.org
X-WR-CALDESC:Events for Colorado Legal Services
REFRESH-INTERVAL;VALUE=DURATION:PT1H
X-Robots-Tag:noindex
X-PUBLISHED-TTL:PT1H
BEGIN:VTIMEZONE
TZID:America/Denver
BEGIN:DAYLIGHT
TZOFFSETFROM:-0700
TZOFFSETTO:-0600
TZNAME:MDT
DTSTART:20250309T090000
END:DAYLIGHT
BEGIN:STANDARD
TZOFFSETFROM:-0600
TZOFFSETTO:-0700
TZNAME:MST
DTSTART:20251102T080000
END:STANDARD
BEGIN:DAYLIGHT
TZOFFSETFROM:-0700
TZOFFSETTO:-0600
TZNAME:MDT
DTSTART:20260308T090000
END:DAYLIGHT
BEGIN:STANDARD
TZOFFSETFROM:-0600
TZOFFSETTO:-0700
TZNAME:MST
DTSTART:20261101T080000
END:STANDARD
BEGIN:DAYLIGHT
TZOFFSETFROM:-0700
TZOFFSETTO:-0600
TZNAME:MDT
DTSTART:20270314T090000
END:DAYLIGHT
BEGIN:STANDARD
TZOFFSETFROM:-0600
TZOFFSETTO:-0700
TZNAME:MST
DTSTART:20271107T080000
END:STANDARD
END:VTIMEZONE
BEGIN:VEVENT
DTSTART;TZID=America/Denver:20261106T090000
DTEND;TZID=America/Denver:20261106T110000
DTSTAMP:20260425T200642
CREATED:20260415T232728Z
LAST-MODIFIED:20260415T232728Z
UID:10000218-1793955600-1793962800@www.coloradolegalservices.org
SUMMARY:Fairplay Legal Intake Clinic (Walk-In)
DESCRIPTION:Colorado Legal Services will have a staff member available to conduct case intake interviews from April through June 2026\, according to the following schedule. Individuals can meet with staff to discuss their legal concerns and determine eligibility for services. \nFAIRPLAY: 1st Friday Monthly*🕘 9:00 a.m. to 11:00 a.m.📍 Park County Combined Courts300 4th Street \nClients will be seen on a walk-in\, first-come\, first-served basis. \nPlease contact our office for Chaffee\, Custer\, and Park counties by calling (719) 539-4250.
URL:https://www.coloradolegalservices.org/event/fairplay-legal-intake-clinic-walk-in/2026-11-06/
LOCATION:Park County Combined Courts 300 4th Street\, Park County Combined Courts 300 4th Street
END:VEVENT
BEGIN:VEVENT
DTSTART;TZID=America/Denver:20261113T090000
DTEND;TZID=America/Denver:20261113T110000
DTSTAMP:20260425T200642
CREATED:20260415T233520Z
LAST-MODIFIED:20260415T233520Z
UID:10000231-1794560400-1794567600@www.coloradolegalservices.org
SUMMARY:Salida - Free Legal Intake Clinics Fairplay
DESCRIPTION:Colorado Legal Services will have a staff member available for case intake interviews from April through June 2026. This is an opportunity for individuals to speak directly with staff about their legal concerns and determine eligibility for services. \nSALIDA: Every Friday (except the first Friday of the month)*🕘 9:00 a.m. to 11:00 a.m.📍 Chaffee County Courthouse142 Crestone Avenue \nNo outreach on June 19\, 2026 \nClients will be seen on a walk-in\, first-come\, first-served basis. \nFor more information or questions\, please contact our office serving Chaffee\, Custer\, and Park counties at (719) 539-4250.
URL:https://www.coloradolegalservices.org/event/salida-free-legal-intake-clinics-fairplay/2026-11-13/
LOCATION:📍 Chaffee County Courthouse 142 Crestone Avenue\, 📍 Chaffee County Courthouse 142 Crestone Avenue
END:VEVENT
BEGIN:VEVENT
DTSTART;TZID=America/Denver:20261113T100000
DTEND;TZID=America/Denver:20261113T140000
DTSTAMP:20260425T200642
CREATED:20260319T154925Z
LAST-MODIFIED:20260330T175832Z
UID:10000094-1794564000-1794578400@www.coloradolegalservices.org
SUMMARY:Fremont Courthouse: Meet an attorney
DESCRIPTION:Meet with an attorney for information on civil legal matters such as an eviction\, foreclosure\, debt collection\, protection orders\, divorce and custody\, public benefits appeals\, and help obtaining an ID/Birth Certificate. \nSchedule an appointment: (719) 471-0380
URL:https://www.coloradolegalservices.org/event/fremont-courthouse-outreach-meet-with-attoney-at-fermont-county/2026-11-13/
LOCATION:136 Justice Center Rd #103\, Cañon City\, CO 81212\, 136 Justice Center Rd #103\, Cañon City\, Fermont\, CO\, 81212\, United States
END:VEVENT
BEGIN:VEVENT
DTSTART;TZID=America/Denver:20261118T090000
DTEND;TZID=America/Denver:20261118T150000
DTSTAMP:20260425T200642
CREATED:20260320T174300Z
LAST-MODIFIED:20260320T174300Z
UID:10000070-1794992400-1795014000@www.coloradolegalservices.org
SUMMARY:Intakes for family law issues: self-help center at the Denver District Courthouse
DESCRIPTION:📍 Event Description\nOn the third Wednesday of every month\, a Colorado Legal Services (CLS) paralegal will be available at the Self-Help Center located at the Denver District Courthouse (Denver City & County Building\, Room 281). \nDuring this event\, CLS will provide on-site intake services for family law matters. Please note that this is an intake-only event\, and no educational presentations will be conducted. \nThis initiative aims to connect with individuals who are already visiting the courthouse—especially those who may not be familiar with CLS or who face barriers in accessing legal services. \nThe Self-Help Center is specifically focused on family law issues\, making it an ideal location to support community members in need of legal assistance. \n📌  Time: 9am-3pm (closed 12-1)\n📌 Location\nDenver City & County Building1437 Bannock Street\, Room 281Denver\, CO 80202 \nApril 15\, 2026\nMay 20\, 2026\nJune 17\, 2026\nJuly 15\, 2026\nAugust 19\, 2026\nSeptember 16\, 2026\nOctober 21\, 2026\nNovember 18\, 2026\nDecember 16\, 2026
URL:https://www.coloradolegalservices.org/event/intakes-for-family-law-issues-self-help-center-at-the-denver-district-courthouse-8/
LOCATION:Denver City & County Building 1437 Bannock Street\, Room 281 Denver\, CO 80202\, Denver City & County Building 1437 Bannock Street\, Room 281\, Denver\, CO\, 80202\, United States
END:VEVENT
BEGIN:VEVENT
DTSTART;TZID=America/Denver:20261119T160000
DTEND;TZID=America/Denver:20261119T170000
DTSTAMP:20260425T200642
CREATED:20260319T155726Z
LAST-MODIFIED:20260319T155726Z
UID:10000057-1795104000-1795107600@www.coloradolegalservices.org
SUMMARY:CIVIL PROTECTION ORDERS at Woodland Park
DESCRIPTION:THURSDAY\, NOVEMBER 19TH\n4:00 – 5:00 P.M.\nCommunity Partnership Family Resource Center \nA free presentation to provide basic information about obtaining civil protection orders in Colorado\, plus time for Q&A at the end. \nQuestions? Contact Community Partnership Family Resource Center
URL:https://www.coloradolegalservices.org/event/civil-protection-orders-at-woodland-park/
LOCATION:701 Gold Hill Pl S\, Woodland Park\, CO 80863\, 701 Gold Hill Pl S\, Woodland Park\, CO 80863\, Woodland Park\,\, 80863\, United States
END:VEVENT
BEGIN:VEVENT
DTSTART;TZID=America/Denver:20261127T100000
DTEND;TZID=America/Denver:20261127T140000
DTSTAMP:20260425T200642
CREATED:20260319T154925Z
LAST-MODIFIED:20260330T175832Z
UID:10000095-1795773600-1795788000@www.coloradolegalservices.org
SUMMARY:Fremont Courthouse: Meet an attorney
DESCRIPTION:Meet with an attorney for information on civil legal matters such as an eviction\, foreclosure\, debt collection\, protection orders\, divorce and custody\, public benefits appeals\, and help obtaining an ID/Birth Certificate. \nSchedule an appointment: (719) 471-0380
URL:https://www.coloradolegalservices.org/event/fremont-courthouse-outreach-meet-with-attoney-at-fermont-county/2026-11-27/
LOCATION:136 Justice Center Rd #103\, Cañon City\, CO 81212\, 136 Justice Center Rd #103\, Cañon City\, Fermont\, CO\, 81212\, United States
END:VEVENT
END:VCALENDAR